BEGIN:VCALENDAR
VERSION:2.0
PRODID:icalendar-ruby
CALSCALE:GREGORIAN
METHOD:PUBLISH
BEGIN:VEVENT
DTSTAMP:20260420T015023Z
UID:42-3529833@ctkelc.org
DTSTART:20261018T144500Z
DTEND:20261018T153000Z
CLASS:PUBLIC
CREATED:20260419T181951
DESCRIPTION:Sundays at 9:45 am CT\nRice Village Campus\nUpcoming topics can
  be found here: Sunday Mornings Lineup\nSunday Mornings at 9:45 a.m.   
     \nJoin us each Sunday at 9:45 a.m. for fellowship and connection w
 ith your church families. There are numerous opportunities to spend time t
 ogether between services including coffee and fellowship time\, bible stud
 ies\, and more.
LAST-MODIFIED:20260419T181951
LOCATION:Christ the King Rice Village Campus + Online
SUMMARY:Sunday Mornings
URL;VALUE=URI:https://ctkelc.org/events/sunday-mornings/2026-10-18
ATTACH;FILENAME=6Yl9.jpg;FMTTYPE=image/jpeg:https://dq5pwpg1q8ru0.cloudfron
 t.net/2023/04/18/12/01/48/1f48b754-d766-49a6-b0ba-bc9f70618118/6Yl9.jpg
END:VEVENT
END:VCALENDAR
