BEGIN:VCALENDAR
VERSION:2.0
PRODID:icalendar-ruby
CALSCALE:GREGORIAN
METHOD:PUBLISH
BEGIN:VEVENT
DTSTAMP:20260422T031114Z
UID:448-3565872@ctkelc.org
DTSTART:20261029T000000Z
DTEND:20261029T010000Z
CLASS:PUBLIC
CREATED:20260421T194037
DESCRIPTION:Brass Quintet Rehearsal\, parish hall
LAST-MODIFIED:20260421T194037
LOCATION:2353 Rice Blvd. Houston\, Texas 77005 (Parish Hall)
SUMMARY:Brass Quintet Rehearsal
URL;VALUE=URI:https://ctkelc.org/events/brass-quintet-rehearsal/2026-10-28
END:VEVENT
END:VCALENDAR
