BEGIN:VCALENDAR
VERSION:2.0
PRODID:icalendar-ruby
CALSCALE:GREGORIAN
METHOD:PUBLISH
BEGIN:VEVENT
DTSTAMP:20260422T001250Z
UID:448-3563392@ctkelc.org
DTSTART:20261015T000000Z
DTEND:20261015T010000Z
CLASS:PUBLIC
CREATED:20260421T170157
DESCRIPTION:Brass Quintet Rehearsal\, parish hall
LAST-MODIFIED:20260421T170157
LOCATION:2353 Rice Blvd. Houston\, Texas 77005 (Parish Hall)
SUMMARY:Brass Quintet Rehearsal
URL;VALUE=URI:https://ctkelc.org/events/brass-quintet-rehearsal/2026-10-14
END:VEVENT
END:VCALENDAR
